BEGIN:VCALENDAR
VERSION:2.0
PRODID:-//Framingham Democratic Committee - ECPv6.15.20//NONSGML v1.0//EN
CALSCALE:GREGORIAN
METHOD:PUBLISH
X-WR-CALNAME:Framingham Democratic Committee
X-ORIGINAL-URL:https://framinghamdems.org
X-WR-CALDESC:Events for Framingham Democratic Committee
REFRESH-INTERVAL;VALUE=DURATION:PT1H
X-Robots-Tag:noindex
X-PUBLISHED-TTL:PT1H
BEGIN:VTIMEZONE
TZID:America/New_York
BEGIN:DAYLIGHT
TZOFFSETFROM:-0500
TZOFFSETTO:-0400
TZNAME:EDT
DTSTART:20240310T070000
END:DAYLIGHT
BEGIN:STANDARD
TZOFFSETFROM:-0400
TZOFFSETTO:-0500
TZNAME:EST
DTSTART:20241103T060000
END:STANDARD
BEGIN:DAYLIGHT
TZOFFSETFROM:-0500
TZOFFSETTO:-0400
TZNAME:EDT
DTSTART:20250309T070000
END:DAYLIGHT
BEGIN:STANDARD
TZOFFSETFROM:-0400
TZOFFSETTO:-0500
TZNAME:EST
DTSTART:20251102T060000
END:STANDARD
BEGIN:DAYLIGHT
TZOFFSETFROM:-0500
TZOFFSETTO:-0400
TZNAME:EDT
DTSTART:20260308T070000
END:DAYLIGHT
BEGIN:STANDARD
TZOFFSETFROM:-0400
TZOFFSETTO:-0500
TZNAME:EST
DTSTART:20261101T060000
END:STANDARD
END:VTIMEZONE
BEGIN:VEVENT
DTSTART;TZID=America/New_York:20250514T190000
DTEND;TZID=America/New_York:20250514T210000
DTSTAMP:20260424T121417
CREATED:20250508T143922Z
LAST-MODIFIED:20250512T121610Z
UID:8645-1747249200-1747256400@framinghamdems.org
SUMMARY:Business Meeting
DESCRIPTION:Framingham Democratic Committee\nAgenda: Monthly Business Meeting\n\nWednesday May 14th 7pm Zoom only\n7:00 – 7:05 Welcome and reading of FDC Mission Statement – Rozzy Hooper-Hamersley\, Vice-Chair\n7:05 – 7:10 Preliminary announcements – Doug Lawrence\, Chair\n7:10 – 7:50 Kate Merritt-O’Toole from Indivisible\n7:50 – 8:00 Reports from City Council\, School Committee\n8:00 – 8:05 Reports from our Legislative Delegation\n8:05 – 8:10 Reports from State Dem Committee: Norma Shulman\, Parwez Wahid\, Kathie McCarthy\n8:10 – 8:50 Sub – Committee Reports \nCivics Education – Kurt Fusaris &amp; Barbara Fontes\nLegislative Subcommittee – Audrey Hall\nMotions in support of :\nBill H.104 An Act Establishing the Massachusetts Consumer Data Privacy Act S. No.\n227\nAmendment H.66 Proposal for Constitutional Amendment H.66 Relative to Oaths of\nOffice\nBill S.1486 An Act Relative to End-of-Life Options (H.2540)\nBill H.1014 An Act Establishing a Climate Change Superfund (S.588)\nEnvironmental – Larry Stoodt\nMotion in support of City of Framingham adopting the Opt-in specialized Building Code and\ncompleting the municipal Decarbonization Roadmap.\nCommunications – Adam Steiner\nProgramming – Rozzy Hooper-Hamersley\nBylaws – Jim Hansen\nMotion to except by-law changes \nMembership –\n Nominees for Members (Based on open seats)\n Nominees for Associate Members (Open call)\n Vote on New Member / Assoc. Member\n– Chair reads list of nominees from prior meeting\n– Remarks by candidate.\n Why do you want to be an Associate?\n What would you like to accomplish? How will you volunteer/contribute?\n Will you abide by the Bylaws and pay the dues?\n– Comments from the floor\n– Vote on candidate membership\n8:40 – 8:45 Treasurer’s Report – Larry Stoodt\n8:45 – 8:50 Acceptance of Past Minutes – Lori Bornstein – March 30th\n8:50 – 9:00 Announcements – from members\, future events\nMarkey event -Parwez\n9:00 Adjourn \nSpecial Note: If you or a loved one are experiencing any issues that we can help with please\ncontact the Co-Chairs or any Officer and we will do all we can to get services or meet any\nneeds that we can for that person. Our members might be able to help you find the help you \nneed\, and nobody should be facing challenges alone! \nFuture Events \n6/8/25 Sunday 7:00pm FDC Monthly Meeting\n6/14/25 Saturday No Kings Protests country-wide
URL:https://framinghamdems.org/event/business-meeting-57/
CATEGORIES:Meeting
END:VEVENT
END:VCALENDAR