BEGIN:VCALENDAR
VERSION:2.0
PRODID:-//Framingham Democratic Committee - ECPv6.15.20//NONSGML v1.0//EN
CALSCALE:GREGORIAN
METHOD:PUBLISH
X-WR-CALNAME:Framingham Democratic Committee
X-ORIGINAL-URL:https://framinghamdems.org
X-WR-CALDESC:Events for Framingham Democratic Committee
REFRESH-INTERVAL;VALUE=DURATION:PT1H
X-Robots-Tag:noindex
X-PUBLISHED-TTL:PT1H
BEGIN:VTIMEZONE
TZID:America/New_York
BEGIN:DAYLIGHT
TZOFFSETFROM:-0500
TZOFFSETTO:-0400
TZNAME:EDT
DTSTART:20230312T070000
END:DAYLIGHT
BEGIN:STANDARD
TZOFFSETFROM:-0400
TZOFFSETTO:-0500
TZNAME:EST
DTSTART:20231105T060000
END:STANDARD
BEGIN:DAYLIGHT
TZOFFSETFROM:-0500
TZOFFSETTO:-0400
TZNAME:EDT
DTSTART:20240310T070000
END:DAYLIGHT
BEGIN:STANDARD
TZOFFSETFROM:-0400
TZOFFSETTO:-0500
TZNAME:EST
DTSTART:20241103T060000
END:STANDARD
BEGIN:DAYLIGHT
TZOFFSETFROM:-0500
TZOFFSETTO:-0400
TZNAME:EDT
DTSTART:20250309T070000
END:DAYLIGHT
BEGIN:STANDARD
TZOFFSETFROM:-0400
TZOFFSETTO:-0500
TZNAME:EST
DTSTART:20251102T060000
END:STANDARD
END:VTIMEZONE
BEGIN:VEVENT
DTSTART;TZID=America/New_York:20240802T170000
DTEND;TZID=America/New_York:20240802T193000
DTSTAMP:20260421T070827
CREATED:20240709T145631Z
LAST-MODIFIED:20240709T150024Z
UID:8432-1722618000-1722627000@framinghamdems.org
SUMMARY:Friday Night Concert on the Green
DESCRIPTION:Voter Registration and Info Table\nFDC conducts voter registration and information table at the Friday Night Concerts on the Green. \nThe Green is located at Vernon Street and Edgell Road near Framingham Centre. \nVolunteers needed to staff the table.
URL:https://framinghamdems.org/event/friday-night-concert-on-the-green-5/
LOCATION:Framingham Centre Common\, Vernon Street and Edgell Road\, Framingham\, Massachusetts\, 01701
CATEGORIES:Concert on the Green
END:VEVENT
BEGIN:VEVENT
DTSTART;TZID=America/New_York:20240809T170000
DTEND;TZID=America/New_York:20240809T193000
DTSTAMP:20260421T070827
CREATED:20240709T145852Z
LAST-MODIFIED:20240709T145852Z
UID:8434-1723222800-1723231800@framinghamdems.org
SUMMARY:Friday Night Concert on the Green
DESCRIPTION:Voter Registration and Info Table\nFDC conducts voter registration and information table at the Friday Night Concerts on the Green. \nThe Green is located at Vernon Street and Edgell Road near Framingham Centre. \nVolunteers needed to staff the table.
URL:https://framinghamdems.org/event/friday-night-concert-on-the-green-6/
LOCATION:Framingham Centre Common\, Vernon Street and Edgell Road\, Framingham\, Massachusetts\, 01701
CATEGORIES:Concert on the Green
END:VEVENT
BEGIN:VEVENT
DTSTART;TZID=America/New_York:20240824T170000
DTEND;TZID=America/New_York:20240824T190000
DTSTAMP:20260421T070827
CREATED:20240624T175001Z
LAST-MODIFIED:20240624T175001Z
UID:8408-1724518800-1724526000@framinghamdems.org
SUMMARY:Summer Event
DESCRIPTION:Potluck event will be hosted by Lori Bornstein. \n  \n 
URL:https://framinghamdems.org/event/summer-event-2/
CATEGORIES:Party
END:VEVENT
END:VCALENDAR