BEGIN:VCALENDAR
VERSION:2.0
PRODID:-//Framingham Democratic Committee - ECPv6.15.20//NONSGML v1.0//EN
CALSCALE:GREGORIAN
METHOD:PUBLISH
X-WR-CALNAME:Framingham Democratic Committee
X-ORIGINAL-URL:https://framinghamdems.org
X-WR-CALDESC:Events for Framingham Democratic Committee
REFRESH-INTERVAL;VALUE=DURATION:PT1H
X-Robots-Tag:noindex
X-PUBLISHED-TTL:PT1H
BEGIN:VTIMEZONE
TZID:America/New_York
BEGIN:DAYLIGHT
TZOFFSETFROM:-0500
TZOFFSETTO:-0400
TZNAME:EDT
DTSTART:20230312T070000
END:DAYLIGHT
BEGIN:STANDARD
TZOFFSETFROM:-0400
TZOFFSETTO:-0500
TZNAME:EST
DTSTART:20231105T060000
END:STANDARD
BEGIN:DAYLIGHT
TZOFFSETFROM:-0500
TZOFFSETTO:-0400
TZNAME:EDT
DTSTART:20240310T070000
END:DAYLIGHT
BEGIN:STANDARD
TZOFFSETFROM:-0400
TZOFFSETTO:-0500
TZNAME:EST
DTSTART:20241103T060000
END:STANDARD
BEGIN:DAYLIGHT
TZOFFSETFROM:-0500
TZOFFSETTO:-0400
TZNAME:EDT
DTSTART:20250309T070000
END:DAYLIGHT
BEGIN:STANDARD
TZOFFSETFROM:-0400
TZOFFSETTO:-0500
TZNAME:EST
DTSTART:20251102T060000
END:STANDARD
END:VTIMEZONE
BEGIN:VEVENT
DTSTART;TZID=America/New_York:20240621T170000
DTEND;TZID=America/New_York:20240621T193000
DTSTAMP:20260421T070827
CREATED:20240428T172805Z
LAST-MODIFIED:20240428T173041Z
UID:8349-1718989200-1718998200@framinghamdems.org
SUMMARY:Friday Concert Information Table
DESCRIPTION:Voter Registration & Info Table\nFDC resumes its voter registration and information table at the Friday Night Concerts on the Green. \nThe Green is located at Vernon Street and Edgell Road near Framingham Centre. \nVolunteers needed to staff the table. \n  \n  \n 
URL:https://framinghamdems.org/event/friday-concert-information-table/
CATEGORIES:Concert on the Green
END:VEVENT
BEGIN:VEVENT
DTSTART;TZID=America/New_York:20240623T130000
DTEND;TZID=America/New_York:20240623T153000
DTSTAMP:20260421T070827
CREATED:20240521T143209Z
LAST-MODIFIED:20240619T173520Z
UID:8371-1719147600-1719156600@framinghamdems.org
SUMMARY:Business Meeting
DESCRIPTION:Framingham Democratic Committee\nAgenda: Monthly Business Meeting \nSunday June 23rd at Loring Arena from 1-3:30pm\nIn Person      –and –         Via Zoom:\n  \n1:00 – 1:05  Welcome and reading of FDC Mission Statement – Rozzy Hooper-Hamersley\, Vice-Chair \n1:05 – 1:10  Preliminary announcements – Doug Lawrence\, Chair \n1:10 – 1:15  Treasurer’s Report – Larry Stoodt \n1:15 – 1:20  Acceptance of Past Minutes – Lori Bornstein – May 28\, 2024 \n1:20 – 1:50   GOTV  \nSpeaker Alex Baush  \nGOTV Committee report- Rozzy \n1:50 – 2:10  Report on Legislative Omnibus bill and environmental impacts \nLarry (10 min presentation\, 10 min Q&A) \n2:10 – 2:20  Reports from City Council\, School Committee \n2:20 – 2:30  Reports from our Legislative Delegation \n2:30 – 2:40 Reports from State Dem Committee: Norma Shulman\, Parwez Wahid\, Kathie McCarthy \n2:40– 3:20 Sub – Committee Reports\nFinancial Audit Committee\nCivics Education – Acting Ch. R. Hooper-Hamersley\nLegislative Subcommittee – Audrey Hall\nEnvironmental – Larry Stoodt\nCommunications – Adam Steiner\nProgramming – Rozzy Hooper-Hamersley\nBylaws – Mel Warshaw\nMembership –  \n\nNominees for Members (Based on open seats)  \nNominees for Associate Members (Open call)\nVote on New Member / Assoc. Member\n\n\nChair reads list of nominees from prior meeting \nRemarks by candidate.  \n\n\nWhy do you want to be an Associate?  \nWhat would you like to accomplish? How will you volunteer/contribute?  \nWill you abide by the Bylaws and pay the dues?\n\n\nComments from the floor\nVote on candidate membership\n\nBBQ Committee- Formation agenda  \n\nAugust 24th 5-7pm Potluck at Lori’s Home\n\n3:20 – 3:30 Announcements – from members\, future events \n3:30  Adjourn \nSpecial Note: If you or a loved one are experiencing any issues that we can help with please contact the Co-Chairs or any Officer and we will do all we can to get services or meet any needs that we can for that person. Our members might be able to help you find the help you need\, and nobody should be facing challenges alone! \nFuture Events \n 
URL:https://framinghamdems.org/event/business-meeting-52/
LOCATION:Loring Arena\, 165 Fountain Street\, Framingham\, 01702\, United States
CATEGORIES:Meeting
END:VEVENT
END:VCALENDAR