BEGIN:VCALENDAR
VERSION:2.0
PRODID:-//Framingham Democratic Committee - ECPv6.15.20//NONSGML v1.0//EN
CALSCALE:GREGORIAN
METHOD:PUBLISH
X-WR-CALNAME:Framingham Democratic Committee
X-ORIGINAL-URL:https://framinghamdems.org
X-WR-CALDESC:Events for Framingham Democratic Committee
REFRESH-INTERVAL;VALUE=DURATION:PT1H
X-Robots-Tag:noindex
X-PUBLISHED-TTL:PT1H
BEGIN:VTIMEZONE
TZID:America/New_York
BEGIN:DAYLIGHT
TZOFFSETFROM:-0500
TZOFFSETTO:-0400
TZNAME:EDT
DTSTART:20230312T070000
END:DAYLIGHT
BEGIN:STANDARD
TZOFFSETFROM:-0400
TZOFFSETTO:-0500
TZNAME:EST
DTSTART:20231105T060000
END:STANDARD
BEGIN:DAYLIGHT
TZOFFSETFROM:-0500
TZOFFSETTO:-0400
TZNAME:EDT
DTSTART:20240310T070000
END:DAYLIGHT
BEGIN:STANDARD
TZOFFSETFROM:-0400
TZOFFSETTO:-0500
TZNAME:EST
DTSTART:20241103T060000
END:STANDARD
BEGIN:DAYLIGHT
TZOFFSETFROM:-0500
TZOFFSETTO:-0400
TZNAME:EDT
DTSTART:20250309T070000
END:DAYLIGHT
BEGIN:STANDARD
TZOFFSETFROM:-0400
TZOFFSETTO:-0500
TZNAME:EST
DTSTART:20251102T060000
END:STANDARD
END:VTIMEZONE
BEGIN:VEVENT
DTSTART;TZID=America/New_York:20240407T130000
DTEND;TZID=America/New_York:20240407T153000
DTSTAMP:20260421T095039
CREATED:20240302T232158Z
LAST-MODIFIED:20240405T124515Z
UID:8289-1712494800-1712503800@framinghamdems.org
SUMMARY:Business Meeting
DESCRIPTION:1:00 – 1:05 Welcome and reading of FDC Mission Statement – Rozzy Hooper-Hamersley\, Co-Chair\n1:05 – 1:10 Preliminary announcements – Cesar Stewart-Morales\, Co-Chair\n1:10 – 1:15 Treasurer’s Report – Larry Stoodt\n1:15 – 1:20 Acceptance of Past Minutes – Doug Lawrence/Lori Bornstein – Mar 2\, 2024\n1:20 – 2:00 Election of New Officers: Rozzy Hooper-Hamersley & Cesar Stewart-Morales \nReport of the Nominating Committee\nVotes on Officers\nChair\nVice Chair\nTreasurer\nSecretary\nAffirmative Action and Outreach Advisor \n2:00-2:10 Membership Dues – Parwez Wahid \nDiscussion of appropriate amount of dues for Members/Associates\nNOTE: Dues are DUE for the new year starting 1 April 2024 by 30 April 2024 \n● Dues are $20 Member /$15 Associate. You can pay by Act Blue or cash but check is preferred\, to save the $0.79 Act Blue admin fee (to offset the cost of ActBlue\, please increase your donation to $21.00)\n● please mail your 2024 dues to Larry Stoodt at 615 Belknap Road\, Framingham\, MA 01701. \n2:10 – 2:20 Update MetroWest Blue &amp; Beyond: Dave Magnani on Democrats taking action nationally\n2:20 – 2:35 discuss Proposed New Member Introduction Materials – Parwez Wahid\n2:35 – 2:45 Reports from City Council\, School Committee\n2:45– 2:55 Reports from our Legislative Delegation\n2:55 – 3:05 Reports from State Dem Committee: Norma Shulman\, Parwez Wahid\, Kathie McCarthy \nNominating Signatures Drive Update and Resources Needed – Norma Shulman\nCD5 meeting in Winchester on April 27 to elect DNCC delegates \n3:05 – 3:25 Sub – Committee Reports\nCivics Education – Acting Ch. R. Hooper-Hamersley\nLegislative Subcommittee – Audrey Hall\nLocal water sewer discount rate issue – Adam Stenier\nEnvironmental – Larry Stoodt\nDiscuss Cuts to City Budget for Environmental Projects\nLink to signable petition: https://form.jotform.com/240865661787168\nCommunications – Jim Hansen\nProgramming – Rozzy Hooper-Hamersley\nByLaws – Mel Warshaw\nBylaw about FDC Public Communications Policy\nMembership – Call for nominations for Associate Members\n3:25 – 3:30 Announcements – from members\, future events\n3:30 Adjourn \nSpecial Note: If you or a loved one are experiencing any issues that we can help with please\ncontact the Co-Chairs or any Officer and we will do all we can to get services or meet any\nneeds that we can for that person. Our members might be able to help you find the help you need\, and nobody should be facing challenges alone!
URL:https://framinghamdems.org/event/business-meeting-50/
LOCATION:Framingham Public Library – McAuliffe\, 746 Water Street\, Framingham\, MA\, 01701\, United States
CATEGORIES:Meeting
END:VEVENT
END:VCALENDAR