BEGIN:VCALENDAR
VERSION:2.0
PRODID:-//Framingham Democratic Committee - ECPv6.15.20//NONSGML v1.0//EN
CALSCALE:GREGORIAN
METHOD:PUBLISH
X-ORIGINAL-URL:https://framinghamdems.org
X-WR-CALDESC:Events for Framingham Democratic Committee
REFRESH-INTERVAL;VALUE=DURATION:PT1H
X-Robots-Tag:noindex
X-PUBLISHED-TTL:PT1H
BEGIN:VTIMEZONE
TZID:America/New_York
BEGIN:DAYLIGHT
TZOFFSETFROM:-0500
TZOFFSETTO:-0400
TZNAME:EDT
DTSTART:20230312T070000
END:DAYLIGHT
BEGIN:STANDARD
TZOFFSETFROM:-0400
TZOFFSETTO:-0500
TZNAME:EST
DTSTART:20231105T060000
END:STANDARD
BEGIN:DAYLIGHT
TZOFFSETFROM:-0500
TZOFFSETTO:-0400
TZNAME:EDT
DTSTART:20240310T070000
END:DAYLIGHT
BEGIN:STANDARD
TZOFFSETFROM:-0400
TZOFFSETTO:-0500
TZNAME:EST
DTSTART:20241103T060000
END:STANDARD
BEGIN:DAYLIGHT
TZOFFSETFROM:-0500
TZOFFSETTO:-0400
TZNAME:EDT
DTSTART:20250309T070000
END:DAYLIGHT
BEGIN:STANDARD
TZOFFSETFROM:-0400
TZOFFSETTO:-0500
TZNAME:EST
DTSTART:20251102T060000
END:STANDARD
END:VTIMEZONE
BEGIN:VEVENT
DTSTART;TZID=America/New_York:20240302T133000
DTEND;TZID=America/New_York:20240302T160000
DTSTAMP:20260423T052117
CREATED:20240118T145821Z
LAST-MODIFIED:20240301T155323Z
UID:8245-1709386200-1709395200@framinghamdems.org
SUMMARY:Democratic Caucus & Bus. Meeting
DESCRIPTION:Annual city Democratic caucus to elect delegates for the 2024 state convention. \nTaking place in the Costin Room of the Framingham Public Library\, main branch on Lexington Street. \nRegistration starts at 1:30pm\, call-to-order at 2pm. \nA brief business meeting will follow the conclusion of the caucus. \nFramingham Democratic Committee\nAgenda: Monthly Business Meeting \n3:00* – 3:05  Welcome and Reading of FDC Mission Statement – Rozzy Hooper-Hamersley\, Co-Chair\n3:05 – 3:15     Approval of Additional Funds for US Constitution Project by Civic Ed Subcommittee\n3:15 – 3:20 Election of Associate Member – 1 Nominee – Grace Snedden\n3:20 – 3:25 Associate Membership – Interested in Joining? Nominations accepted from the floor\n3:25 – 3:30 Announcements – from members\, future events\, etc.\n3:30 Adjourn \n*This meeting will be held once the business of the 2024 Framingham Caucus has concluded and may shift to a slightly later time. \nSpecial Note: If you or a loved one are experiencing any issues that we can help with please contact the Co-Chairs or any Officer and we will do all we can to get services or meet any needs that we can for that person. Our members might be able to help you find the help you need\, and nobody should be facing challenges alone! \nFuture Event \nApril Organizing Hybrid Meeting:  SUNDAY\, Apr 7th 1:00 PM – 3:30 PM\nOn Zoom or In-Person\, at McAuliffe Branch Library\, Community Room\, 746 Water St.\, Framingham
URL:https://framinghamdems.org/event/business-meeting-48/
LOCATION:Framingham Public Library – Main\, 49 Lexington Street\, Framingham\, MA\, 01702\, United States
CATEGORIES:Meeting
END:VEVENT
END:VCALENDAR