BEGIN:VCALENDAR
VERSION:2.0
PRODID:-//Framingham Democratic Committee - ECPv6.15.20//NONSGML v1.0//EN
CALSCALE:GREGORIAN
METHOD:PUBLISH
X-ORIGINAL-URL:https://framinghamdems.org
X-WR-CALDESC:Events for Framingham Democratic Committee
REFRESH-INTERVAL;VALUE=DURATION:PT1H
X-Robots-Tag:noindex
X-PUBLISHED-TTL:PT1H
BEGIN:VTIMEZONE
TZID:America/New_York
BEGIN:DAYLIGHT
TZOFFSETFROM:-0500
TZOFFSETTO:-0400
TZNAME:EDT
DTSTART:20230312T070000
END:DAYLIGHT
BEGIN:STANDARD
TZOFFSETFROM:-0400
TZOFFSETTO:-0500
TZNAME:EST
DTSTART:20231105T060000
END:STANDARD
BEGIN:DAYLIGHT
TZOFFSETFROM:-0500
TZOFFSETTO:-0400
TZNAME:EDT
DTSTART:20240310T070000
END:DAYLIGHT
BEGIN:STANDARD
TZOFFSETFROM:-0400
TZOFFSETTO:-0500
TZNAME:EST
DTSTART:20241103T060000
END:STANDARD
BEGIN:DAYLIGHT
TZOFFSETFROM:-0500
TZOFFSETTO:-0400
TZNAME:EDT
DTSTART:20250309T070000
END:DAYLIGHT
BEGIN:STANDARD
TZOFFSETFROM:-0400
TZOFFSETTO:-0500
TZNAME:EST
DTSTART:20251102T060000
END:STANDARD
END:VTIMEZONE
BEGIN:VEVENT
DTSTART;TZID=America/New_York:20240121T150000
DTEND;TZID=America/New_York:20240121T180000
DTSTAMP:20260423T075932
CREATED:20231130T211429Z
LAST-MODIFIED:20240118T145700Z
UID:8211-1705849200-1705860000@framinghamdems.org
SUMMARY:Business Meeting
DESCRIPTION:New location on trial basis. \nThe FDC is trying out having its monthly business meetings at a new location: B Sisters Cafe on Rt 9 in Framingham.  This location has been used for the monthly Saturday morning coffee meetups as well as candidate meet-and-greets and canvas staging. \nAddress is 680 Worcester Road\, Framingham\, Rt 9 eastbound\, opposite Trader Joe’s. \nFramingham Democratic Committee\nAgenda: Monthly Business Meeting  \nSunday\, January 21 2024 at 3-5PM  \n  \n3:00 – 3:05 Welcome and reading of FDC Mission Statement – Rozzy Hooper-Hamersley\, Co-Chair\n3:05 – 3:10 Prelimnary announcements – Cesar Stewart-Morales\, Co-Chair\n3:10 – 3:15 Treasurer’s Report – Larry Stoodt\n3:15 – 3:20 Acceptance of Minutes – Doug Lawrence – Nov 2023\, December 2023\n3:20 – 3:30 MetroWest Blue and Beyond: Dave Magnani on Democrats taking action nationally\n3:30 – 4:00 Guest Speaker: Alex Bausch\, MASS Dems 2024 elections and NH phone-banking for the Biden write-in campaign.\n4:00 – 4:15 Reports from City Council\, School Committee\n4:15 – 4:25 Reports from our Legislative Delegation\n4:25 – 4:35 Reports from State Dem Committee: Norma Shulman\, Parwez Wahid\, Kathie McCarthy\n4:35 – 4:55 Sub – Committee Reports\nCivics Education – Acting Ch. R. Hooper-Hamersley – funds for Constitution books for students\nLegislative Subcommittee – Audrey Hall – Meeting TOMORROW 21 Jan 7PM\nEnvironmental – Larry Stoodt\nFramingham Climate Action Plan\nCreating Healthier Communities\nAdding an environmental section to FDC‘s website?\nCommunications – Jim Hansen\nProgramming – Rozzy Hooper-Hamersley\nByLaws – Mel Warshaw\n4:55 – 5:00 Announcements – from members\, future events 5:00 Adjourn \nFuture Events\nNext FDC Business Meeting: Sunday February 18\, 2024 from 3pm to 5pm B Sisters Cafe at 680 Worcester Road in Framingham on Route 9 eastbound across from Walgreens and Trader Joes.  \nSpecial Note: If you or a loved one are experiencing any issues that we can help with please  contact the Chair or any Officer and we will do all we can to get services or meet any needs  that we can for that person. Our members might be able to help you find the help you need\,  and nobody should be facing challenges alone! \n\n 
URL:https://framinghamdems.org/event/business-meeting-47/
LOCATION:B Sisters Cafe\, 680 Worcester Road\, Framingham\, MA\, 01702
CATEGORIES:Meeting
END:VEVENT
BEGIN:VEVENT
DTSTART;TZID=America/New_York:20240128T190000
DTEND;TZID=America/New_York:20240128T200000
DTSTAMP:20260423T075932
CREATED:20240126T183940Z
LAST-MODIFIED:20240126T183940Z
UID:8259-1706468400-1706472000@framinghamdems.org
SUMMARY:Special Meeting Jan 28
DESCRIPTION:Framingham Democratic Committee\nAgenda: Special Meeting to Vote on Advocacy for Specific Legislation \nJanuary 28\, 2023\, 7:00PM    \n  \nZoom Only \n7:00 – 7:05  Welcome and Reading of FDC Mission Statement\n7:05 – 7:55     As requested by the Legislative Subcommittee of the FDC\, a vote of the FDC to authorize that the legislative committee outreach to legislators in support of the following legislation: \n  \n– S.2561 An Act Relative to Archaic Laws (attached)\n– H.3852 An Act Supporting Electrical Load Aggregation Programs in the Commonwealth\n– H3219 An Act Supporting Local Aggregation Programs (attached) \n8:00 Adjourn \nSpecial Note: If you or a loved one are experiencing any issues that we can help with please contact the Co-Chairs or any Officer and we will do all we can to get services or meet any needs that we can for that person. Our members might be able to help you find the help you need\, and nobody should be facing challenges alone! \n 
URL:https://framinghamdems.org/event/special-meeting-jan-28/
CATEGORIES:Meeting
END:VEVENT
END:VCALENDAR