BEGIN:VCALENDAR
VERSION:2.0
PRODID:-//Framingham Democratic Committee - ECPv6.15.20//NONSGML v1.0//EN
CALSCALE:GREGORIAN
METHOD:PUBLISH
X-WR-CALNAME:Framingham Democratic Committee
X-ORIGINAL-URL:https://framinghamdems.org
X-WR-CALDESC:Events for Framingham Democratic Committee
REFRESH-INTERVAL;VALUE=DURATION:PT1H
X-Robots-Tag:noindex
X-PUBLISHED-TTL:PT1H
BEGIN:VTIMEZONE
TZID:America/New_York
BEGIN:DAYLIGHT
TZOFFSETFROM:-0500
TZOFFSETTO:-0400
TZNAME:EDT
DTSTART:20220313T070000
END:DAYLIGHT
BEGIN:STANDARD
TZOFFSETFROM:-0400
TZOFFSETTO:-0500
TZNAME:EST
DTSTART:20221106T060000
END:STANDARD
BEGIN:DAYLIGHT
TZOFFSETFROM:-0500
TZOFFSETTO:-0400
TZNAME:EDT
DTSTART:20230312T070000
END:DAYLIGHT
BEGIN:STANDARD
TZOFFSETFROM:-0400
TZOFFSETTO:-0500
TZNAME:EST
DTSTART:20231105T060000
END:STANDARD
BEGIN:DAYLIGHT
TZOFFSETFROM:-0500
TZOFFSETTO:-0400
TZNAME:EDT
DTSTART:20240310T070000
END:DAYLIGHT
BEGIN:STANDARD
TZOFFSETFROM:-0400
TZOFFSETTO:-0500
TZNAME:EST
DTSTART:20241103T060000
END:STANDARD
END:VTIMEZONE
BEGIN:VEVENT
DTSTART;TZID=America/New_York:20231210T160000
DTEND;TZID=America/New_York:20231210T180000
DTSTAMP:20260423T093119
CREATED:20231113T151504Z
LAST-MODIFIED:20231208T165733Z
UID:8194-1702224000-1702231200@framinghamdems.org
SUMMARY:2023 Holiday Party & Bus Meeting
DESCRIPTION:FDC annual holiday party. \nBrief business meeting. \nFramingham Democratic Committee\nMinutes:   Special Meeting – Vote on Nominated Associate Members\nDec 10\, 2023 starting at 4:30PM \n AGENDA\n4 Minutes     Welcome & Reading of Mission – Rozzy Hooper-Hamersley \n10 Minutes Votes on Acceptance of new Associate Members – Norma Shulman \nCynthia Villanueva \nStephanie Deeley \nKatherine Murphy \nBrandale Randolph \nSamantha McGarry \nHeather Klish  \n  \n5 Minutes – Any brief announcements and / or holiday good wishes \n  \n1 Minute Adjourn \n  \nSpecial Note: If you or a loved one are experiencing any issues that we can help with during this extraordinary time please contact the Chair or any Officer and we will do all we can to get services or meet any needs that we can for that person. Our members might be able to help you find the help you need\, and nobody should be facing challenges alone! \nFuture Items \nNext FDC Business Meeting:   Sunday January 21\, 2024 from 3pm to 6pm.\nThe location will be B Sisters Cafe at 680 Worcester Road in Framingham\non Route 9 eastbound across from Walgreens and Trader Joes.
URL:https://framinghamdems.org/event/2023-holiday-party/
LOCATION:Edwards Church\, 39 Edwards Street\, Framingham\, MA\, 01701
CATEGORIES:Meeting,Party
END:VEVENT
END:VCALENDAR