BEGIN:VCALENDAR
VERSION:2.0
PRODID:-//Framingham Democratic Committee - ECPv6.15.20//NONSGML v1.0//EN
CALSCALE:GREGORIAN
METHOD:PUBLISH
X-WR-CALNAME:Framingham Democratic Committee
X-ORIGINAL-URL:https://framinghamdems.org
X-WR-CALDESC:Events for Framingham Democratic Committee
REFRESH-INTERVAL;VALUE=DURATION:PT1H
X-Robots-Tag:noindex
X-PUBLISHED-TTL:PT1H
BEGIN:VTIMEZONE
TZID:America/New_York
BEGIN:DAYLIGHT
TZOFFSETFROM:-0500
TZOFFSETTO:-0400
TZNAME:EDT
DTSTART:20240310T070000
END:DAYLIGHT
BEGIN:STANDARD
TZOFFSETFROM:-0400
TZOFFSETTO:-0500
TZNAME:EST
DTSTART:20241103T060000
END:STANDARD
BEGIN:DAYLIGHT
TZOFFSETFROM:-0500
TZOFFSETTO:-0400
TZNAME:EDT
DTSTART:20250309T070000
END:DAYLIGHT
BEGIN:STANDARD
TZOFFSETFROM:-0400
TZOFFSETTO:-0500
TZNAME:EST
DTSTART:20251102T060000
END:STANDARD
BEGIN:DAYLIGHT
TZOFFSETFROM:-0500
TZOFFSETTO:-0400
TZNAME:EDT
DTSTART:20260308T070000
END:DAYLIGHT
BEGIN:STANDARD
TZOFFSETFROM:-0400
TZOFFSETTO:-0500
TZNAME:EST
DTSTART:20261101T060000
END:STANDARD
BEGIN:DAYLIGHT
TZOFFSETFROM:-0500
TZOFFSETTO:-0400
TZNAME:EDT
DTSTART:20270314T070000
END:DAYLIGHT
BEGIN:STANDARD
TZOFFSETFROM:-0400
TZOFFSETTO:-0500
TZNAME:EST
DTSTART:20271107T060000
END:STANDARD
END:VTIMEZONE
BEGIN:VEVENT
DTSTART;TZID=America/New_York:20250331T190000
DTEND;TZID=America/New_York:20250331T210000
DTSTAMP:20260421T185655
CREATED:20250129T142940Z
LAST-MODIFIED:20250326T140517Z
UID:8535-1743447600-1743454800@framinghamdems.org
SUMMARY:Business Meeting
DESCRIPTION:Framingham Democratic Committee\nAgenda: Monthly Business Meeting \nMonday March 31th 7pm Zoom only\n  \n7:00 – 7:05  Welcome and reading of FDC Mission Statement – Rozzy Hooper-Hamersley\, Vice-Chair \n7:05 – 7:10  Preliminary announcements – Doug Lawrence\, Chair \n7:10 – 7:50   Kade Crockford from the ACLU  on the The Location Shield Act  \n7:50 – 8:00  Reports from City Council\, School Committee \n8:00 – 8:10  Reports from our Legislative Delegation \n8:10 – 8:20 Reports from State Dem Committee: Norma Shulman\, Parwez Wahid\, Kathie McCarthy \n8:20 – 8:50 Sub – Committee Reports  \nCivics Education – Kurt Fusaris & Barbara Fontes  \nLegislative Subcommittee – Audrey Hall  \nEnvironmental – Larry Stoodt \nCommunications – Adam Steiner \nProgramming – Rozzy Hooper-Hamersley \nBylaws – Jim Hansen \nMembership –  \n\nNominees for Members (Based on open seats-currently 2)  \nNominees for Associate Members (Open call)\nVote on New Member / Assoc. Member\n\n\nChair reads list of nominees from prior meeting \nRemarks by candidate.  \n\n\nWhy do you want to be an Associate?  \nWhat would you like to accomplish? How will you volunteer/contribute?  \nWill you abide by the Bylaws and pay the dues?\n\n\nComments from the floor\nVote on candidate membership\n\n8:40 – 8:45  Treasurer’s Report – Larry Stoodt \n8:45 – 8:50  Acceptance of Past Minutes – Lori Bornstein – February 13th \n8:50 – 9:00 Announcements – from members\, future events \nMarkey event -Parwez  \n9:00  Adjourn \nSpecial Note: If you or a loved one are experiencing any issues that we can help with please contact the Co-Chairs or any Officer and we will do all we can to get services or meet any needs that we can for that person. Our members might be able to help you find the help you need\, and nobody should be facing challenges alone! \nFuture Events \n4/27/25 Sunday 1:30pm Democratic Caucus in the Costin room at the main library (registration begins at 1pm)
URL:https://framinghamdems.org/event/business-meeting-59/
CATEGORIES:Meeting
END:VEVENT
BEGIN:VEVENT
DTSTART;TZID=America/New_York:20250427T130000
DTEND;TZID=America/New_York:20250427T153000
DTSTAMP:20260421T185655
CREATED:20250306T141730Z
LAST-MODIFIED:20250307T192522Z
UID:8574-1745758800-1745767800@framinghamdems.org
SUMMARY:2025 Caucus
DESCRIPTION:Election of delegates to the 2025 Democratic State Convention. \nConvention will be held in Springfield\, MA on Saturday September 13th. \nRegistration begins at 1:00pm. \nCall-to-Order at 1:30pm. \nRegistration will close at 1:45pm.
URL:https://framinghamdems.org/event/2025-caucus/
LOCATION:Framingham Public Library – Main\, 49 Lexington Street\, Framingham\, MA\, 01702\, United States
CATEGORIES:Meeting
END:VEVENT
BEGIN:VEVENT
DTSTART;TZID=America/New_York:20250514T190000
DTEND;TZID=America/New_York:20250514T210000
DTSTAMP:20260421T185655
CREATED:20250508T143922Z
LAST-MODIFIED:20250512T121610Z
UID:8645-1747249200-1747256400@framinghamdems.org
SUMMARY:Business Meeting
DESCRIPTION:Framingham Democratic Committee\nAgenda: Monthly Business Meeting\n\nWednesday May 14th 7pm Zoom only\n7:00 – 7:05 Welcome and reading of FDC Mission Statement – Rozzy Hooper-Hamersley\, Vice-Chair\n7:05 – 7:10 Preliminary announcements – Doug Lawrence\, Chair\n7:10 – 7:50 Kate Merritt-O’Toole from Indivisible\n7:50 – 8:00 Reports from City Council\, School Committee\n8:00 – 8:05 Reports from our Legislative Delegation\n8:05 – 8:10 Reports from State Dem Committee: Norma Shulman\, Parwez Wahid\, Kathie McCarthy\n8:10 – 8:50 Sub – Committee Reports \nCivics Education – Kurt Fusaris &amp; Barbara Fontes\nLegislative Subcommittee – Audrey Hall\nMotions in support of :\nBill H.104 An Act Establishing the Massachusetts Consumer Data Privacy Act S. No.\n227\nAmendment H.66 Proposal for Constitutional Amendment H.66 Relative to Oaths of\nOffice\nBill S.1486 An Act Relative to End-of-Life Options (H.2540)\nBill H.1014 An Act Establishing a Climate Change Superfund (S.588)\nEnvironmental – Larry Stoodt\nMotion in support of City of Framingham adopting the Opt-in specialized Building Code and\ncompleting the municipal Decarbonization Roadmap.\nCommunications – Adam Steiner\nProgramming – Rozzy Hooper-Hamersley\nBylaws – Jim Hansen\nMotion to except by-law changes \nMembership –\n Nominees for Members (Based on open seats)\n Nominees for Associate Members (Open call)\n Vote on New Member / Assoc. Member\n– Chair reads list of nominees from prior meeting\n– Remarks by candidate.\n Why do you want to be an Associate?\n What would you like to accomplish? How will you volunteer/contribute?\n Will you abide by the Bylaws and pay the dues?\n– Comments from the floor\n– Vote on candidate membership\n8:40 – 8:45 Treasurer’s Report – Larry Stoodt\n8:45 – 8:50 Acceptance of Past Minutes – Lori Bornstein – March 30th\n8:50 – 9:00 Announcements – from members\, future events\nMarkey event -Parwez\n9:00 Adjourn \nSpecial Note: If you or a loved one are experiencing any issues that we can help with please\ncontact the Co-Chairs or any Officer and we will do all we can to get services or meet any\nneeds that we can for that person. Our members might be able to help you find the help you \nneed\, and nobody should be facing challenges alone! \nFuture Events \n6/8/25 Sunday 7:00pm FDC Monthly Meeting\n6/14/25 Saturday No Kings Protests country-wide
URL:https://framinghamdems.org/event/business-meeting-57/
CATEGORIES:Meeting
END:VEVENT
BEGIN:VEVENT
DTSTART;TZID=America/New_York:20250608T190000
DTEND;TZID=America/New_York:20250608T210000
DTSTAMP:20260421T185655
CREATED:20250508T144039Z
LAST-MODIFIED:20250604T195723Z
UID:8647-1749409200-1749416400@framinghamdems.org
SUMMARY:Business Meeting
DESCRIPTION:Framingham Democratic Committee\nAgenda: Monthly Business Meeting \nSunday June 8th 7pm  Edwards Hall in Edwards Church\n  \n7:00 – 7:05  Welcome and reading of FDC Mission Statement – Rozzy Hooper-Hamersley\, Vice-Chair \n7:05 – 7:10  Preliminary announcements – Doug Lawrence\, Chair \n7:10 – 7:25   Mass Dems Update: Alex Bausch \n7:25 – 7:55  Immigration Crisis: Sam McGarry \n7:55 – 8:05  Reports from City Council\, School Committee \n8:05 – 8:10  Reports from our Legislative Delegation \n8:10 – 8:15 Reports from State Dem Committee: Norma Shulman\, Parwez Wahid\, Kathie McCarthy \n8:15 – 8:40 Sub – Committee Reports  \nCivics Education – Kurt Fusaris & Barbara Fontes  \nLegislative Subcommittee – Audrey Hall  \nEnvironmental – Larry Stoodt \nCommunications – Adam Steiner \nProgramming – Rozzy Hooper-Hamersley \nBylaws – Jim Hansen \nMotion to except by-law changes \nMembership –  \n\nNominees for Members (Based on open seats-currently 0)  \nNominees for Associate Members (Open call)\nVote on New Member / Assoc. Member\n\n\nChair reads list of nominees from prior meeting \nRemarks by candidate.  \n\n\nWhy do you want to be an Associate?  \nWhat would you like to accomplish? How will you volunteer/contribute?  \nWill you abide by the Bylaws and pay the dues?\n\n\nComments from the floor\nVote on candidate membership\n\n8:40 – 8:45  Treasurer’s Report – Larry Stoodt \n8:45 – 8:50  Acceptance of Past Minutes – Lori Bornstein – May 14th \n8:50 – 9:00 Announcements – from members\, future events \n9:00  Adjourn \n  \nSpecial Note: If you or a loved one are experiencing any issues that we can help with please contact the Co-Chairs or any Officer and we will do all we can to get services or meet any needs that we can for that person. Our members might be able to help you find the help you need\, and nobody should be facing challenges alone! \n  \nFuture Events \n6/5/25 Thursday 2pm Framingham Senior Heroes for Diversity and Inclusivity Awards in the Blaise Room of the Callahan Center\, 535 Union Ave \n6/8/25 Sunday 7pm FDC Monthly Meeting \n6/10/25 Tuesday 5:30-7:30pm Celebrate Jack’s New Chairmanship at Krua Khun Yah Thai\, 325 Pond St Ashland https://secure.actblue.com/donate/jackcelebrate \n6/14/25 Saturday 10am Flag Day Parade at Cushing Memorial Park. \n6/14/25 Saturday 1:30-3:00 No Kings Protests at Framingham Common https://www.mobilize.us/nokings/event/792099/ \n6/15/25 Sunday 2-6pm Markey Fundraiser 274 Ash St.\, Hopkinton https://secure.actblue.com/donate/061525r \n7/12/25 Saturday 12pm Platform Discussion (for fall convention) Morse Library\, 14 E. Central St.\, Natick \n 
URL:https://framinghamdems.org/event/business-meeting-60/
LOCATION:Edwards Church\, 39 Edwards Street\, Framingham\, MA\, 01701
CATEGORIES:Meeting
END:VEVENT
BEGIN:VEVENT
DTSTART;VALUE=DATE:20250726
DTEND;VALUE=DATE:20250727
DTSTAMP:20260421T185655
CREATED:20250609T123259Z
LAST-MODIFIED:20250609T123314Z
UID:8672-1753488000-1753574399@framinghamdems.org
SUMMARY:Summer BBQ
DESCRIPTION:Phil & Valerie Ottaviani will host the annual barbeque event. \nMore details to follow. \n(Scheduled for July 26 with rain date Aug 2.)
URL:https://framinghamdems.org/event/summer-bbq-2/
LOCATION:Ottaviani Residence\, 630 Salem End Road\, Framingham\, MA\, 01702\, United States
CATEGORIES:Party
END:VEVENT
BEGIN:VEVENT
DTSTART;TZID=America/New_York:20250929T190000
DTEND;TZID=America/New_York:20250929T210000
DTSTAMP:20260421T185655
CREATED:20250909T165646Z
LAST-MODIFIED:20250927T154345Z
UID:8704-1759172400-1759179600@framinghamdems.org
SUMMARY:Business Meeting
DESCRIPTION:Framingham Democratic Committee\nAgenda: Monthly Business Meeting\nMonday September 29th 7pm Loring Arena\n  \n7:00 – 7:05 Welcome and reading of FDC Mission Statement – Rozzy Hooper-Hamersley\, Vice-Chair \n7:05 – 7:10  Preliminary announcements – Doug Lawrence\, Chair \n7:10 – 7:30   Out MetroWest – Mel Pace  \n7:30 – 7:55  Immigration Crisis (LUCE\, CASA) – Samantha McGarry \n7:55 – 8:05  Reports from City Council\, School Committee \n8:05 – 8:10  Reports from our Legislative Delegation \n8:10 – 8:15 Reports from State Dem Committee: Norma Shulman\, Parwez Wahid\, Kathie McCarthy \n8:15 – 8:40 Sub – Committee Reports  \nCivics Education – Kurt Fusaris & Barbara Fontes  \nLegislative Subcommittee – Audrey Hall  \nEnvironmental – Larry Stoodt \nCommunications – Adam Steiner \nProgramming – Rozzy Hooper-Hamersley \nBylaws – Jim Hansen \nMotion to except by-law changes \nMembership –  \n\nNominees for Members (Based on open seats-currently 0)  \nNominees for Associate Members (Open call)\nVote on New Member / Assoc. Member\n\n\nChair reads list of nominees from prior meeting \nRemarks by candidate.  \n\n\nWhy do you want to be an Associate?  \nWhat would you like to accomplish? How will you volunteer/contribute?  \nWill you abide by the Bylaws and pay the dues?\n\n\nComments from the floor\nVote on candidate membership\n\n8:40 – 8:45  Treasurer’s Report – Larry Stoodt \n8:45 – 8:50  Acceptance of Past Minutes – Lori Bornstein – June 8th \n8:50 – 9:00 Announcements – from members\, future events \n9:00  Adjourn \nSpecial Note: If you or a loved one are experiencing any issues that we can help with please contact the Co-Chairs or any Officer and we will do all we can to get services or meet any needs that we can for that person. Our members might be able to help you find the help you need\, and nobody should be facing challenges alone! \nFuture Events \n 
URL:https://framinghamdems.org/event/business-meeting-61/
LOCATION:Loring Arena\, 165 Fountain Street\, Framingham\, 01702\, United States
CATEGORIES:Meeting
END:VEVENT
BEGIN:VEVENT
DTSTART;TZID=America/New_York:20251027T190000
DTEND;TZID=America/New_York:20251027T210000
DTSTAMP:20260421T185655
CREATED:20250909T165838Z
LAST-MODIFIED:20251027T013321Z
UID:8706-1761591600-1761598800@framinghamdems.org
SUMMARY:Business Meeting
DESCRIPTION:Framingham Democratic Committee\nAgenda: Monthly Business Meeting \nMonday October 27th 7pm Loring Arena\n7:00 – 7:05 Welcome and reading of FDC Mission Statement – Rozzy Hooper-Hamersley\, Vice-Chair \n7:05 – 7:10  Preliminary announcements – Doug Lawrence\, Chair \n7:10 – 7:30    Environment -Larry \n7:30 – 7:50    Survey Response -Rozzy \n7:50– 8:10  Sub – Committee Reports  \nCivics Education – Kurt Fusaris & Barbara Fontes  \nLegislative Subcommittee – Audrey Hall  \nEnvironmental – Larry Stoodt \nCommunications – Adam Steiner \nProgramming – Rozzy Hooper-Hamersley \nBylaws – Jim Hansen \nMembership –  \n\nNominees for Members (Based on open seats-currently 0)  \nNominees for Associate Members (Open call)\nVote on New Member / Assoc. Member\n\n\nChair reads list of nominees from prior meeting \nRemarks by candidate.  \n\n\nWhy do you want to be an Associate?  \nWhat would you like to accomplish? How will you volunteer/contribute?  \nWill you abide by the Bylaws and pay the dues?\n\n\nComments from the floor\nVote on candidate membership\n\n7:10 – 8:20 Reports from State Dem Committee: Norma Shulman\, Parwez Wahid\, Kathie McCarthy \n8:20 – 8:30  Reports from City Council\, School Committee \n8:30 – 8:40  Reports from our Legislative Delegation \n8:40 – 8:45  Treasurer’s Report – Larry Stoodt \n8:45 – 8:50  Acceptance of Past Minutes – Lori Bornstein – Sept 29th \n8:50 – 9:00  Announcements – from members\, future events \n9:00  Adjourn \nSpecial Note: If you or a loved one are experiencing any issues that we can help with please contact the Co-Chairs or any Officer and we will do all we can to get services or meet any needs that we can for that person. Our members might be able to help you find the help you need\, and nobody should be facing challenges alone! \nFuture Events \n 
URL:https://framinghamdems.org/event/business-meeting-62/
LOCATION:Loring Arena\, 165 Fountain Street\, Framingham\, 01702\, United States
CATEGORIES:Meeting
END:VEVENT
BEGIN:VEVENT
DTSTART;TZID=America/New_York:20251117T190000
DTEND;TZID=America/New_York:20251117T210000
DTSTAMP:20260421T185655
CREATED:20250909T165958Z
LAST-MODIFIED:20251117T151307Z
UID:8708-1763406000-1763413200@framinghamdems.org
SUMMARY:Business Meeting
DESCRIPTION:Framingham Democratic Committee\nAgenda: Monthly Business Meeting\nMonday November 17th 7pm Loring Arena\n7:00 – 7:05 Welcome and reading of FDC Mission Statement – Rozzy Hooper-Hamersley\, Vice-Chair \n7:05 – 7:10  Preliminary announcements – Doug Lawrence\, Chair \n7:10 – 7:20    No Kings Rally -Kate Merritt-O’Toole \n7:20 – 7:50    Survey Response and Discussion -Rozzy \n7:50– 8:10  Sub – Committee Reports  \nCivics Education – Kurt Fusaris & Barbara Fontes\nLegislative Subcommittee – Audrey Hall\nEnvironmental – Larry Stoodt\nCommunications – Adam Steiner\nProgramming – Rozzy Hooper-Hamersley\nBylaws – Jim Hansen \nMembership –  \n\nNominees for Members (Based on open seats-currently 0)  \nNominees for Associate Members (Open call)\nVote on New Member / Assoc. Member\n\n\nChair reads list of nominees from prior meeting \nRemarks by candidate.  \n\n\nWhy do you want to be an Associate?  \nWhat would you like to accomplish? How will you volunteer/contribute?  \nWill you abide by the Bylaws and pay the dues?\n\n\nComments from the floor\nVote on candidate membership\n\n7:10 – 8:20 Reports from State Dem Committee: Norma Shulman\, Parwez Wahid\, Kathie McCarthy \n8:20 – 8:30  Reports from City Council\, School Committee \n8:30 – 8:40  Reports from our Legislative Delegation \n8:40 – 8:45  Treasurer’s Report – Larry Stoodt \n8:45 – 8:50  Acceptance of Past Minutes – Lori Bornstein – Oct 27th \n8:50 – 9:00  Announcements – from members\, future events \n9:00  Adjourn \nSpecial Note: If you or a loved one are experiencing any issues that we can help with please contact the Co-Chairs or any Officer and we will do all we can to get services or meet any needs that we can for that person. Our members might be able to help you find the help you need\, and nobody should be facing challenges alone! \nFuture Events
URL:https://framinghamdems.org/event/business-meeting-63/
LOCATION:Loring Arena\, 165 Fountain Street\, Framingham\, 01702\, United States
CATEGORIES:Meeting
END:VEVENT
BEGIN:VEVENT
DTSTART;TZID=America/New_York:20251215T190000
DTEND;TZID=America/New_York:20251215T210000
DTSTAMP:20260421T185655
CREATED:20250909T170349Z
LAST-MODIFIED:20251118T151622Z
UID:8711-1765825200-1765832400@framinghamdems.org
SUMMARY:Business Meeting
DESCRIPTION:The December business meeting will have a brief agenda (not yet published) followed by the annual holiday celebration. \nMembers who wish to help with hospitality for the party should contact the Vice Chair Rozzy Hooper-Hamersley at rozmo1952@gmail.com.
URL:https://framinghamdems.org/event/business-meeting-64/
LOCATION:Loring Arena\, 165 Fountain Street\, Framingham\, 01702\, United States
CATEGORIES:Meeting
END:VEVENT
BEGIN:VEVENT
DTSTART;TZID=America/New_York:20260119T190000
DTEND;TZID=America/New_York:20260119T210000
DTSTAMP:20260421T185655
CREATED:20250909T170528Z
LAST-MODIFIED:20260119T153702Z
UID:8713-1768849200-1768856400@framinghamdems.org
SUMMARY:Business Meeting
DESCRIPTION:Framingham Democratic Committee\nAgenda: Monthly Business Meeting \nMonday January 19th 7pm Loring Arena\n7:00 — 7:05 Welcome and reading of FDC Mission Statement — Rozzy Hooper-Hamersley\, Vice-Chair \n7:05 — 7:10  Preliminary announcements — Doug Lawrence\, Chair \n7:10 — 7:40    FreeHer — Mallory Hanora \n7:40 — 7:50  John Stanley – Regional Organizing Director for the Markey Campaign \n7:50 — 8:00   Election of Treasurer and Secretary \n  \nLarry Stoodt is stepping down as Treasurer. Lori Bornstein is stepping down as Secretary.\nMotion: to elect Lori Bornstein as Treasurer\nMotion: to elect Cynthia Villanueva as Secretary \n8:00 — 8:10 Sub-Committee Reports  \nCivics Education — Kurt Fusaris & Barbara Fontes  \nLegislative Subcommittee — Audrey Hall  \nEnvironmental — Larry Stoodt \nCommunications — Adam Steiner \nProgramming — Rozzy Hooper-Hamersley \nBylaws — Jim Hansen \nMembership — \n\nNominees for Members (Based on open seats-currently 1)  \n\nMotion: to elect Samantha McGarry to be a member (nominated last meeting) \n\nNominees for Associate Members (Open call)\nVote on New Member / Assoc. Member\n\n\nChair reads list of nominees from prior meeting \nRemarks by candidate.  \n\n\nWhy do you want to be an Associate?  \nWhat would you like to accomplish? How will you volunteer/contribute?  \nWill you abide by the Bylaws and pay the dues?\n\n\nComments from the floor\nVote on candidate membership\n\n8:10 — 8:20 Reports from State Dem Committee: Norma Shulman\, Parwez Wahid\, Kathie McCarthy \n8:20 — 8:30  Reports from City Council\, School Committee \n8:30 — 8:40  Reports from our Legislative Delegation \n8:40 — 8:50  Treasurer’s Report — Larry Stoodt \n8:50 — 8:55  Acceptance of Past Minutes — Nov 17th \n8:55 — 9:00  Announcements — from members\, future events \n9:00  Adjourn \n  \nSpecial Note: If you or a loved one are experiencing any issues that we can help with please contact the Co-Chairs or any Officer and we will do all we can to get services or meet any needs that we can for that person. Our members might be able to help you find the help you need\, and nobody should be facing challenges alone! \n  \nFuture Events \n 
URL:https://framinghamdems.org/event/business-meeting-65/
LOCATION:Loring Arena\, 165 Fountain Street\, Framingham\, 01702\, United States
CATEGORIES:Meeting
END:VEVENT
BEGIN:VEVENT
DTSTART;TZID=America/New_York:20260216T190000
DTEND;TZID=America/New_York:20260216T210000
DTSTAMP:20260421T185655
CREATED:20250909T170836Z
LAST-MODIFIED:20260205T155635Z
UID:8715-1771268400-1771275600@framinghamdems.org
SUMMARY:Business Meeting
DESCRIPTION:Framingham Democratic Committee\nAgenda: Monthly Business Meeting\nMonday February 16th 7pm Loring Arena\nGuests: Jonathan Cohn- Policy Director of Progressive Massachusetts  \n7:00 — Meeting called to order by Doug Lawrence – Chair \n7:01 — Reading of FDC Mission Statement — Rozzy Hooper-Hamersley\, Vice-Chair \n7:03 — Preliminary announcements — Doug Lawrence\, Chair \n7:15 — Jonathan Cohn\, Policy Director of Progressive Massachusetts  \n7:45 — Sub-Committee Reports \nCivics Education — Kurt Fusaris & Barbara Fontes \nLegislative Subcommittee — Audrey Hall \nEnvironmental — Larry Stoodt \nCommunications — Adam Steiner \n            Programming — Rozzy Hooper-Hamersley \n            Bylaws — Jim Hansen \nMembership — \n8:15 — Reports\, State Dem Committee: Norma Shulman\, Parwez Wahid\, Kathie McCarthy \n8:25 — Reports from City Council  \n8:35 — Reports School Committee  \n8:37 — Reports from our Legislative Delegation              \n8:47 — Treasurer’s Report – Lori Bornstein \n8:49 — Acceptance of Past Minutes — Jan 19th \n8:50 –Announcements — from members\, future events \n9:00 – Meeting Adjourned \n  \n  \nSpecial Note: If you or a loved one is experiencing any issues that we can help with please contact the Co-Chairs or any Officer and we will do all we can to get services or meet any needs that we can for that person. Our members might be able to help you find the help you need\, and nobody should be facing challenges alone!  \n 
URL:https://framinghamdems.org/event/business-meeting-66/
LOCATION:Loring Arena\, 165 Fountain Street\, Framingham\, 01702\, United States
CATEGORIES:Meeting
END:VEVENT
BEGIN:VEVENT
DTSTART;TZID=America/New_York:20260301T130000
DTEND;TZID=America/New_York:20260301T150000
DTSTAMP:20260421T185655
CREATED:20260211T042702Z
LAST-MODIFIED:20260211T042702Z
UID:8775-1772370000-1772377200@framinghamdems.org
SUMMARY:Democratic City Caucus
DESCRIPTION:Caucus for electing Framingham’s delegation to the 2026 Democratic State Convention. \nAt this caucus 34 delegates and 6 alternates will be elected.
URL:https://framinghamdems.org/event/democratic-city-caucus/
LOCATION:Framingham Public Library – Main\, 49 Lexington Street\, Framingham\, MA\, 01702\, United States
CATEGORIES:Meeting
END:VEVENT
BEGIN:VEVENT
DTSTART;TZID=America/New_York:20260316T190000
DTEND;TZID=America/New_York:20260316T210000
DTSTAMP:20260421T185655
CREATED:20250909T171007Z
LAST-MODIFIED:20260313T142752Z
UID:8717-1773687600-1773694800@framinghamdems.org
SUMMARY:Business Meeting
DESCRIPTION:Framingham Democratic Committee\nAgenda: Monthly Business Meeting\nMonday March 16th 7pm Loring Arena\n7:00 – 7:05 Welcome and reading of FDC Mission Statement – Rozzy Hooper-Hamersley\, Vice-Chair \n7:05 – 7:30  Preliminary announcements – Doug Lawrence\, Chair \n April Reorganization Meeting Discussion \n7:30 – 7:50 Guest Speaker – Middlesex DA Marian Ryan     \n  7:50– 8:10 Sub – Committee Reports  \nCivics Education – Kurt Fusaris & Barbara Fontes  \nLegislative Subcommittee – Audrey Hall  \nEnvironmental – Larry Stoodt \nCommunications –  \nProgramming – Rozzy Hooper-Hamersley \nBylaws – Jim Hansen \nMembership –  \n\nNominees for Members \nNominees for Associate Members (Open call)\nVote on New Member / Assoc. Member\n\n\nChair reads list of nominees from prior meeting \nRemarks by candidate.  \n\n\nWhy do you want to be an Associate?  \nWhat would you like to accomplish? How will you volunteer/contribute?  \nWill you abide by the Bylaws and pay the dues?\n\n\nComments from the floor\nVote on candidate membership\n\n8:10 – 8:20 Reports from State Dem Committee: Norma Shulman\, Parwez Wahid\, Kathie McCarthy \n8:20 – 8:30  Reports from City Council\, School Committee \n8:30 – 8:40  Reports from our Legislative Delegation \n8:40 – 8:45  Treasurer’s Report – Lori Bornstein \n8:45 – 8:50  Acceptance of Past Minutes Feb 16th  \n8:50 – 9:00  Announcements – from members\, future events \n9:00  Adjourn \nSpecial Note: If you or a loved one are experiencing any issues that we can help with please contact the Co-Chairs or any Officer and we will do all we can to get services or meet any needs that we can for that person. Our members might be able to help you find the help you need\, and nobody should be facing challenges alone! \nFuture Events
URL:https://framinghamdems.org/event/business-meeting-67/
LOCATION:Loring Arena\, 165 Fountain Street\, Framingham\, 01702\, United States
CATEGORIES:Meeting
END:VEVENT
BEGIN:VEVENT
DTSTART;TZID=America/New_York:20260518T190000
DTEND;TZID=America/New_York:20260518T210000
DTSTAMP:20260421T185655
CREATED:20260217T153236Z
LAST-MODIFIED:20260217T153236Z
UID:8784-1779130800-1779138000@framinghamdems.org
SUMMARY:Business  Meeting
DESCRIPTION:(Agenda not yet available.) \n 
URL:https://framinghamdems.org/event/business-meeting-68/
LOCATION:Loring Arena\, 165 Fountain Street\, Framingham\, 01702\, United States
CATEGORIES:Meeting
END:VEVENT
END:VCALENDAR