BEGIN:VCALENDAR
VERSION:2.0
PRODID:-//Framingham Democratic Committee - ECPv6.15.20//NONSGML v1.0//EN
CALSCALE:GREGORIAN
METHOD:PUBLISH
X-WR-CALNAME:Framingham Democratic Committee
X-ORIGINAL-URL:https://framinghamdems.org
X-WR-CALDESC:Events for Framingham Democratic Committee
REFRESH-INTERVAL;VALUE=DURATION:PT1H
X-Robots-Tag:noindex
X-PUBLISHED-TTL:PT1H
BEGIN:VTIMEZONE
TZID:America/New_York
BEGIN:DAYLIGHT
TZOFFSETFROM:-0500
TZOFFSETTO:-0400
TZNAME:EDT
DTSTART:20240310T070000
END:DAYLIGHT
BEGIN:STANDARD
TZOFFSETFROM:-0400
TZOFFSETTO:-0500
TZNAME:EST
DTSTART:20241103T060000
END:STANDARD
BEGIN:DAYLIGHT
TZOFFSETFROM:-0500
TZOFFSETTO:-0400
TZNAME:EDT
DTSTART:20250309T070000
END:DAYLIGHT
BEGIN:STANDARD
TZOFFSETFROM:-0400
TZOFFSETTO:-0500
TZNAME:EST
DTSTART:20251102T060000
END:STANDARD
BEGIN:DAYLIGHT
TZOFFSETFROM:-0500
TZOFFSETTO:-0400
TZNAME:EDT
DTSTART:20260308T070000
END:DAYLIGHT
BEGIN:STANDARD
TZOFFSETFROM:-0400
TZOFFSETTO:-0500
TZNAME:EST
DTSTART:20261101T060000
END:STANDARD
END:VTIMEZONE
BEGIN:VEVENT
DTSTART;TZID=America/New_York:20251117T190000
DTEND;TZID=America/New_York:20251117T210000
DTSTAMP:20260421T095044
CREATED:20250909T165958Z
LAST-MODIFIED:20251117T151307Z
UID:8708-1763406000-1763413200@framinghamdems.org
SUMMARY:Business Meeting
DESCRIPTION:Framingham Democratic Committee\nAgenda: Monthly Business Meeting\nMonday November 17th 7pm Loring Arena\n7:00 – 7:05 Welcome and reading of FDC Mission Statement – Rozzy Hooper-Hamersley\, Vice-Chair \n7:05 – 7:10  Preliminary announcements – Doug Lawrence\, Chair \n7:10 – 7:20    No Kings Rally -Kate Merritt-O’Toole \n7:20 – 7:50    Survey Response and Discussion -Rozzy \n7:50– 8:10  Sub – Committee Reports  \nCivics Education – Kurt Fusaris & Barbara Fontes\nLegislative Subcommittee – Audrey Hall\nEnvironmental – Larry Stoodt\nCommunications – Adam Steiner\nProgramming – Rozzy Hooper-Hamersley\nBylaws – Jim Hansen \nMembership –  \n\nNominees for Members (Based on open seats-currently 0)  \nNominees for Associate Members (Open call)\nVote on New Member / Assoc. Member\n\n\nChair reads list of nominees from prior meeting \nRemarks by candidate.  \n\n\nWhy do you want to be an Associate?  \nWhat would you like to accomplish? How will you volunteer/contribute?  \nWill you abide by the Bylaws and pay the dues?\n\n\nComments from the floor\nVote on candidate membership\n\n7:10 – 8:20 Reports from State Dem Committee: Norma Shulman\, Parwez Wahid\, Kathie McCarthy \n8:20 – 8:30  Reports from City Council\, School Committee \n8:30 – 8:40  Reports from our Legislative Delegation \n8:40 – 8:45  Treasurer’s Report – Larry Stoodt \n8:45 – 8:50  Acceptance of Past Minutes – Lori Bornstein – Oct 27th \n8:50 – 9:00  Announcements – from members\, future events \n9:00  Adjourn \nSpecial Note: If you or a loved one are experiencing any issues that we can help with please contact the Co-Chairs or any Officer and we will do all we can to get services or meet any needs that we can for that person. Our members might be able to help you find the help you need\, and nobody should be facing challenges alone! \nFuture Events
URL:https://framinghamdems.org/event/business-meeting-63/
LOCATION:Loring Arena\, 165 Fountain Street\, Framingham\, 01702\, United States
CATEGORIES:Meeting
END:VEVENT
END:VCALENDAR