BEGIN:VCALENDAR
VERSION:2.0
PRODID:-//Framingham Democratic Committee - ECPv6.15.20//NONSGML v1.0//EN
CALSCALE:GREGORIAN
METHOD:PUBLISH
X-WR-CALNAME:Framingham Democratic Committee
X-ORIGINAL-URL:https://framinghamdems.org
X-WR-CALDESC:Events for Framingham Democratic Committee
REFRESH-INTERVAL;VALUE=DURATION:PT1H
X-Robots-Tag:noindex
X-PUBLISHED-TTL:PT1H
BEGIN:VTIMEZONE
TZID:America/New_York
BEGIN:DAYLIGHT
TZOFFSETFROM:-0500
TZOFFSETTO:-0400
TZNAME:EDT
DTSTART:20230312T070000
END:DAYLIGHT
BEGIN:STANDARD
TZOFFSETFROM:-0400
TZOFFSETTO:-0500
TZNAME:EST
DTSTART:20231105T060000
END:STANDARD
BEGIN:DAYLIGHT
TZOFFSETFROM:-0500
TZOFFSETTO:-0400
TZNAME:EDT
DTSTART:20240310T070000
END:DAYLIGHT
BEGIN:STANDARD
TZOFFSETFROM:-0400
TZOFFSETTO:-0500
TZNAME:EST
DTSTART:20241103T060000
END:STANDARD
BEGIN:DAYLIGHT
TZOFFSETFROM:-0500
TZOFFSETTO:-0400
TZNAME:EDT
DTSTART:20250309T070000
END:DAYLIGHT
BEGIN:STANDARD
TZOFFSETFROM:-0400
TZOFFSETTO:-0500
TZNAME:EST
DTSTART:20251102T060000
END:STANDARD
END:VTIMEZONE
BEGIN:VEVENT
DTSTART;TZID=America/New_York:20241125T190000
DTEND;TZID=America/New_York:20241125T203000
DTSTAMP:20260421T124327
CREATED:20241115T135212Z
LAST-MODIFIED:20241125T224913Z
UID:8492-1732561200-1732566600@framinghamdems.org
SUMMARY:Business Meeting
DESCRIPTION:Framingham Democratic Committee\nAgenda: Monthly Business Meeting\n\nMonday November 25  7 pm\nRemote only on Zoom (library closed due to unforeseen issues) \n7:00 – 7:05 Welcome and reading of FDC Mission Statement – Rozzy Hooper-Hamersley\, Vice-Chair\n7:05 – 7:10 Remembering of Ginger Esty – Cynthia Villanueva\n7:10 – 8:30 Post-Election Discussion – Doug Lawrence\, Chair\n8:30 –8:35 Treasurer’s Report – Larry Stoodt\n8:35 –8:40 Acceptance of Past Minutes – Lori Bornstein – Sept\, 2024\n8:40 –8:45 Announcements – from members\, future events\n8:45 Adjourn \nSpecial Note: If you or a loved one are experiencing any issues that we can help with please contact the Co-Chairs or any Officer and we will do all we can to get services or meet any needs that we can for that person. Our members might be able to help you find the help you need\, and nobody should be facing challenges alone! \nFuture Events \n 
URL:https://framinghamdems.org/event/business-meeting-55/
CATEGORIES:Meeting
END:VEVENT
END:VCALENDAR