BEGIN:VCALENDAR
VERSION:2.0
PRODID:-//Framingham Democratic Committee - ECPv6.15.20//NONSGML v1.0//EN
CALSCALE:GREGORIAN
METHOD:PUBLISH
X-ORIGINAL-URL:https://framinghamdems.org
X-WR-CALDESC:Events for Framingham Democratic Committee
REFRESH-INTERVAL;VALUE=DURATION:PT1H
X-Robots-Tag:noindex
X-PUBLISHED-TTL:PT1H
BEGIN:VTIMEZONE
TZID:America/New_York
BEGIN:DAYLIGHT
TZOFFSETFROM:-0500
TZOFFSETTO:-0400
TZNAME:EDT
DTSTART:20230312T070000
END:DAYLIGHT
BEGIN:STANDARD
TZOFFSETFROM:-0400
TZOFFSETTO:-0500
TZNAME:EST
DTSTART:20231105T060000
END:STANDARD
BEGIN:DAYLIGHT
TZOFFSETFROM:-0500
TZOFFSETTO:-0400
TZNAME:EDT
DTSTART:20240310T070000
END:DAYLIGHT
BEGIN:STANDARD
TZOFFSETFROM:-0400
TZOFFSETTO:-0500
TZNAME:EST
DTSTART:20241103T060000
END:STANDARD
BEGIN:DAYLIGHT
TZOFFSETFROM:-0500
TZOFFSETTO:-0400
TZNAME:EDT
DTSTART:20250309T070000
END:DAYLIGHT
BEGIN:STANDARD
TZOFFSETFROM:-0400
TZOFFSETTO:-0500
TZNAME:EST
DTSTART:20251102T060000
END:STANDARD
END:VTIMEZONE
BEGIN:VEVENT
DTSTART;TZID=America/New_York:20240726T170000
DTEND;TZID=America/New_York:20240726T193000
DTSTAMP:20260421T070934
CREATED:20240709T145341Z
LAST-MODIFIED:20240709T145341Z
UID:8430-1722013200-1722022200@framinghamdems.org
SUMMARY:Friday Night Concert on the Green
DESCRIPTION:Voter Registration and Info Table\nFDC conducts voter registration and information table at the Friday Night Concerts on the Green. \nThe Green is located at Vernon Street and Edgell Road near Framingham Centre. \nVolunteers needed to staff the table.
URL:https://framinghamdems.org/event/friday-night-concert-on-the-green-4/
LOCATION:Framingham Centre Common\, Vernon Street and Edgell Road\, Framingham\, Massachusetts\, 01701
CATEGORIES:Concert on the Green
END:VEVENT
END:VCALENDAR